BEGIN:VCALENDAR
VERSION:2.0
PRODID:-//Seattle Giving Garden Network - ECPv6.15.18//NONSGML v1.0//EN
CALSCALE:GREGORIAN
METHOD:PUBLISH
X-WR-CALNAME:Seattle Giving Garden Network
X-ORIGINAL-URL:https://www.sggn.org
X-WR-CALDESC:Events for Seattle Giving Garden Network
REFRESH-INTERVAL;VALUE=DURATION:PT1H
X-Robots-Tag:noindex
X-PUBLISHED-TTL:PT1H
BEGIN:VTIMEZONE
TZID:America/Los_Angeles
BEGIN:DAYLIGHT
TZOFFSETFROM:-0800
TZOFFSETTO:-0700
TZNAME:PDT
DTSTART:20250309T100000
END:DAYLIGHT
BEGIN:STANDARD
TZOFFSETFROM:-0700
TZOFFSETTO:-0800
TZNAME:PST
DTSTART:20251102T090000
END:STANDARD
BEGIN:DAYLIGHT
TZOFFSETFROM:-0800
TZOFFSETTO:-0700
TZNAME:PDT
DTSTART:20260308T100000
END:DAYLIGHT
BEGIN:STANDARD
TZOFFSETFROM:-0700
TZOFFSETTO:-0800
TZNAME:PST
DTSTART:20261101T090000
END:STANDARD
BEGIN:DAYLIGHT
TZOFFSETFROM:-0800
TZOFFSETTO:-0700
TZNAME:PDT
DTSTART:20270314T100000
END:DAYLIGHT
BEGIN:STANDARD
TZOFFSETFROM:-0700
TZOFFSETTO:-0800
TZNAME:PST
DTSTART:20271107T090000
END:STANDARD
END:VTIMEZONE
BEGIN:VEVENT
DTSTART;TZID=America/Los_Angeles:20260425T100000
DTEND;TZID=America/Los_Angeles:20260425T130000
DTSTAMP:20260421T044916
CREATED:20260419T025431Z
LAST-MODIFIED:20260419T025546Z
UID:4374-1777111200-1777122000@www.sggn.org
SUMMARY:Earth Day Resource Fair
DESCRIPTION:Celebrate Earth Day and kick off your growing season at the P-Patch Resource Fair\, Saturday\, April 25\, from 10 a.m. to 1 p.m. at the Northwest African American Museum (NAAM). (2300 S Massachusetts St\, Seattle\, WA\, 98144) \nWhether you are a novice gardener or a seasoned green thumb\, this free event is open to all and will have a little something for everyone. Discover new plant varietals at our seed swap\, pick up some organic fertilizer to give your garden a boost\, trade tips with other gardeners\, and chat with community partners and vendors. \nThe event will also feature a kids craft table for the little ones\, a chance to learn more about NAAM by touring the museum\, and a performance from local musician Arami Walker from 10 to 11:30 a.m. \nInterpretation services will be available on-site. Community partners and vendors include GROW NW\, Tilth Alliance\, Washington Native Bee Society\, Seattle Office of Labor Standards\, Byrd Barr Place\, Seattle Giving Garden Network\, Seattle City Light\, and more! \nInterested in volunteering with SGGN at this event? Sign up here!
URL:https://www.sggn.org/event/earth-day-resource-fair/
LOCATION:Northwest African American Museum\, 2300 S. Massachusetts St\, Seattle\, WA\, 98144\, United States
ATTACH;FMTTYPE=image/png:https://www.sggn.org/wp-content/uploads/2026/04/PPatch_ResourceFair_1200x675.png
END:VEVENT
END:VCALENDAR